BEGIN:VCALENDAR
VERSION:2.0
PRODID:www.gruene-edertal.de
METHOD:PUBLISH
BEGIN:VTIMEZONE
TZID:Europe/Berlin
X-LIC-LOCATION:Europe/Berlin
BEGIN:DAYLIGHT
TZOFFSETFROM:+0100
TZOFFSETTO:+0200
TZNAME:CEST
DTSTART:19700329T020000
RRULE:FREQ=YEARLY;INTERVAL=1;BYDAY=-1SU;BYMONTH=3
END:DAYLIGHT
BEGIN:STANDARD
TZOFFSETFROM:+0200
TZOFFSETTO:+0100
TZNAME:CET
DTSTART:19701025T030000
RRULE:FREQ=YEARLY;INTERVAL=1;BYDAY=-1SU;BYMONTH=10
END:STANDARD
END:VTIMEZONE
BEGIN:VEVENT
UID:3b6734717846d3aef6dfa464931429fd@www.gruene-edertal.de
URL;VALUE=URI:https://www.gruene-edertal.de/termine/bundesparteitag-04-12
 -2026
LOCATION:Berlin
SUMMARY:Bundesparteitag
DESCRIPTION;ALTREP="data:text/html,":
CLASS:PUBLIC
DTSTART;TZID=Europe/Berlin:20261204T000000
DTEND;TZID=Europe/Berlin:20261207T000000
DTSTAMP:20260422T123940
END:VEVENT
END:VCALENDAR